BEGIN:VCALENDAR
VERSION:2.0
PRODID:-//eventon.com NONSGML v1.0//EN
BEGIN:VEVENT
UID:69eb9f256f833
DTSTAMP:20260424T134941
DTSTART:20200924T230000Z
DTEND:20200925T003000Z
TZID:America/Sao_Paulo
LOCATION:Evento on-line 
SUMMARY:Proteção Passiva de Estruturas Metálicas em Situação de Incêndio
DESCRIPTION: &nbsp; Participar online &nbsp; ATENÇÃO: A palestra será em formato webinar\,  100% online. Inscreva-se e receba em seu e-mail o link de acesso. &nbsp; Abordagem: Proteção passiva de estruturas metálicas e de madeiras; Normas técnicas da ABNT; Qualidade de projeto x qualidade da proteção passiva in loco; Especificação\,  execução e[..]\nhttps://www.institutodeengenharia.org.br/site/events/protecao-passiva-de-estruturas-metalicas-em-situacao-de-incendio/
URL:https://www.institutodeengenharia.org.br/site/events/protecao-passiva-de-estruturas-metalicas-em-situacao-de-incendio/
END:VEVENT
END:VCALENDAR