BEGIN:VCALENDAR
VERSION:2.0
PRODID:-//eventon.com NONSGML v1.0//EN
BEGIN:VEVENT
UID:69eb7f7612368
DTSTAMP:20260424T113430
DTSTART:20260506T213000Z
DTEND:20260506T230000Z
TZID:America/Sao_Paulo
LOCATION:Evento on-line: Zoom e Youtube do IE 
SUMMARY:Perícias: Análises acústicas e térmicas de edificações
DESCRIPTION: Abordagem: Serão apresentados Normas\,  conceitos e metodologias de como se elaborar Perícias de Ruído\,  Conforto Térmico e Acústica. Público-alvo: Engenheiros e arquitetos que atuam ou desejam atuar na área de Perícias de Engenharia Legal. &nbsp; Realização: Eng. Jerônimo Cabral Pereira Fagundes Neto – Vice-presidente de Atividades Técnicas  Eng.ª Débora Sanches[..]\nhttps://www.institutodeengenharia.org.br/site/events/pericias-analises-acusticas-e-termicas-de-edificacoes/
URL:https://www.institutodeengenharia.org.br/site/events/pericias-analises-acusticas-e-termicas-de-edificacoes/
END:VEVENT
END:VCALENDAR