BEGIN:VCALENDAR
VERSION:2.0
PRODID:-//eventon.com NONSGML v1.0//EN
BEGIN:VEVENT
UID:69eb7e5dec509
DTSTAMP:20260424T112949
DTSTART:20260429T210000Z
DTEND:20260429T223000Z
TZID:America/Sao_Paulo
LOCATION:Evento on-line: Zoom e Youtube do IE 
SUMMARY:Desafios e oportunidades da mobilidade aérea urbana
DESCRIPTION: Abordagem: A Mobilidade Aérea Urbana (UAM) representa uma oportunidade estratégica de transformação dos centros urbanos\,  ao introduzir um novo modal aéreo sustentável\,  eficiente e integrado\,  capaz de aliviar gargalos de mobilidade e habilitar novos serviços de alto valor agregado. Embora traga desafios relevantes\,  como a gestão de um espaço aéreo[..]\nhttps://www.institutodeengenharia.org.br/site/events/desafios-e-oportunidades-da-mobilidade-aerea-urbana/
URL:https://www.institutodeengenharia.org.br/site/events/desafios-e-oportunidades-da-mobilidade-aerea-urbana/
END:VEVENT
END:VCALENDAR