BEGIN:VCALENDAR
VERSION:2.0
PRODID:-//eventon.com NONSGML v1.0//EN
BEGIN:VEVENT
UID:69e7649062cb1
DTSTAMP:20260421T085040
DTSTART:20260401T220000Z
DTEND:20260401T233000Z
TZID:America/Sao_Paulo
LOCATION:Evento on-line: Zoom e Youtube do IE 
SUMMARY:Engenharia aumentada: O uso correto da IA generativa na Engenharia
DESCRIPTION: Abordagem:  Simplificar os principais termos associados com as Inteligências Artificiais Generativas e mostrar um exemplo de uso na Engenharia. Público-alvo: Engenheiros\,  arquitetos\,  técnicos\,  estudantes e demais interessados. Realização: Eng. Jerônimo Cabral Pereira Fagundes Neto – Vice-Presidente de Atividades Técnicas  &nbsp; &nbsp; &nbsp; Apoio Institucional: &nbsp; &nbsp; &nbsp; Apoio à formação: [..]\nhttps://www.institutodeengenharia.org.br/site/events/engenharia-aumentada-o-uso-correto-da-ia-generativa-na-engenharia/
URL:https://www.institutodeengenharia.org.br/site/events/engenharia-aumentada-o-uso-correto-da-ia-generativa-na-engenharia/
END:VEVENT
END:VCALENDAR