BEGIN:VCALENDAR
VERSION:2.0
PRODID:-//eventon.com NONSGML v1.0//EN
BEGIN:VEVENT
UID:69e4e9694831e
DTSTAMP:20260419T114041
DTSTART:20260519T220000Z
DTEND:20260520T000000Z
TZID:America/Sao_Paulo
LOCATION:Evento Híbrido - Presencial : Instituto de Engenharia - Av. Dr. Dante Pazzanese\,  120 - Vila Mariana | On-line: Zoom e Youtube do IE 
SUMMARY:Identificação dos Fatores de Risco Psicossociais a partir da AEP ou da AET (NR17) para integração a NR01 (PGR)
DESCRIPTION: Participar presencialmente Participar online Abordagem: Atualização da NR-01 (Norma Regulamentadora 01) sobre a Identificação dos Fatores de Risco Psicossociais relacionados ao Trabalho. Elaboração da Avaliação Ergonômica Preliminar (AEP) ou da Análise Ergonômica do Trabalho (AET) como instrumentos de identificação dos Fatores de Riscos Psicossociais do Trabalho. Integração dos fatores identificados[..]\nhttps://www.institutodeengenharia.org.br/site/events/identificacao-dos-fatores-de-risco-psicossociais-a-partir-da-aep-ou-da-aet-nr17-para-integracao-a-nr01-pgr-2/
URL:https://www.institutodeengenharia.org.br/site/events/identificacao-dos-fatores-de-risco-psicossociais-a-partir-da-aep-ou-da-aet-nr17-para-integracao-a-nr01-pgr-2/
END:VEVENT
END:VCALENDAR